BEGIN:VCALENDAR
VERSION:2.0
PRODID:-//Disciples 4 Christ Outreach - ECPv6.15.20//NONSGML v1.0//EN
CALSCALE:GREGORIAN
METHOD:PUBLISH
X-WR-CALNAME:Disciples 4 Christ Outreach
X-ORIGINAL-URL:https://disciplesforchristoutreach.org
X-WR-CALDESC:Events for Disciples 4 Christ Outreach
REFRESH-INTERVAL;VALUE=DURATION:PT1H
X-Robots-Tag:noindex
X-PUBLISHED-TTL:PT1H
BEGIN:VTIMEZONE
TZID:America/Chicago
BEGIN:DAYLIGHT
TZOFFSETFROM:-0600
TZOFFSETTO:-0500
TZNAME:CDT
DTSTART:20180311T080000
END:DAYLIGHT
BEGIN:STANDARD
TZOFFSETFROM:-0500
TZOFFSETTO:-0600
TZNAME:CST
DTSTART:20181104T070000
END:STANDARD
BEGIN:DAYLIGHT
TZOFFSETFROM:-0600
TZOFFSETTO:-0500
TZNAME:CDT
DTSTART:20190310T080000
END:DAYLIGHT
BEGIN:STANDARD
TZOFFSETFROM:-0500
TZOFFSETTO:-0600
TZNAME:CST
DTSTART:20191103T070000
END:STANDARD
BEGIN:DAYLIGHT
TZOFFSETFROM:-0600
TZOFFSETTO:-0500
TZNAME:CDT
DTSTART:20200308T080000
END:DAYLIGHT
BEGIN:STANDARD
TZOFFSETFROM:-0500
TZOFFSETTO:-0600
TZNAME:CST
DTSTART:20201101T070000
END:STANDARD
END:VTIMEZONE
BEGIN:VEVENT
DTSTART;TZID=America/Chicago:20191208T070000
DTEND;TZID=America/Chicago:20191208T160000
DTSTAMP:20260423T120952
CREATED:20190530T215930Z
LAST-MODIFIED:20191128T162719Z
UID:6683-1575788400-1575820800@disciplesforchristoutreach.org
SUMMARY:Hughes Unit Chapel Services
DESCRIPTION:Disciples 4 Christ will be bringing the word of God to the men of the Hughes unit.  For more information please email our admin staff at office@disciplesforchristoutreach.org
URL:https://disciplesforchristoutreach.org/event/hughes-unit-chapel-services/
LOCATION:Hughes Unit\, 3201 FM 929\, Gatesville\, Texas\, 76528
CATEGORIES:Chapel Service
ORGANIZER;CN="Susan Neyra":MAILTO:susan@disciplesforchristoutreach.org
END:VEVENT
BEGIN:VEVENT
DTSTART;VALUE=DATE:20191205
DTEND;VALUE=DATE:20191208
DTSTAMP:20260423T120952
CREATED:20190530T215728Z
LAST-MODIFIED:20190530T215728Z
UID:6681-1575586800-1575759599@disciplesforchristoutreach.org
SUMMARY:Hughes Blessing Bag Outreach
DESCRIPTION:Disciples 4 Christ will be delivering 3000 hygiene bags to the men of the Hughes Unit.  To learn how you can donate towards this outreach\, or to learn how you can be apart of the event email office@disciplesforchristoutreach.org
URL:https://disciplesforchristoutreach.org/event/hughes-blessing-bag-outreach/
LOCATION:Hughes Unit\, 3201 FM 929\, Gatesville\, Texas\, 76528
ORGANIZER;CN="Susan Neyra":MAILTO:susan@disciplesforchristoutreach.org
END:VEVENT
BEGIN:VEVENT
DTSTART;TZID=America/Chicago:20191117T070000
DTEND;TZID=America/Chicago:20191117T160000
DTSTAMP:20260423T120952
CREATED:20190530T215433Z
LAST-MODIFIED:20190530T215433Z
UID:6679-1573974000-1574006400@disciplesforchristoutreach.org
SUMMARY:Mt. View Chapel Service
DESCRIPTION:Disciples 4 Christ will be bringing the word of God to the ladies on the Mt. View unit.  For more information email office@disciplesforchristoutreach.org\, please include the event date and unit in the subject line of your email.
URL:https://disciplesforchristoutreach.org/event/mt-view-chapel-service/
LOCATION:Mt. View\, 2305 Ransom Rd\, Gatesville\, TX\, 76528\, United States
ORGANIZER;CN="Susan Neyra":MAILTO:susan@disciplesforchristoutreach.org
END:VEVENT
BEGIN:VEVENT
DTSTART;VALUE=DATE:20191115
DTEND;VALUE=DATE:20191117
DTSTAMP:20260423T120952
CREATED:20190530T215140Z
LAST-MODIFIED:20190530T215140Z
UID:6677-1573858800-1573945199@disciplesforchristoutreach.org
SUMMARY:Hilltop Workshop
DESCRIPTION:Disciples 4 Christ will be hosting a “Real Issues\, Real Jesus” workshop on the Hilltop unit.  For more information or to sign up for this event email office@disciplesforchristoutreach.org\, please include the event unit and date in the subject line of your email.
URL:https://disciplesforchristoutreach.org/event/hilltop-workshop/
LOCATION:William Boyd Unit\, P. R. 940\, Teague\, TX\, 75860\, United States
CATEGORIES:Workshop
ORGANIZER;CN="Susan Neyra":MAILTO:susan@disciplesforchristoutreach.org
END:VEVENT
BEGIN:VEVENT
DTSTART;TZID=America/Chicago:20191110T070000
DTEND;TZID=America/Chicago:20191110T160000
DTSTAMP:20260423T120952
CREATED:20190530T214821Z
LAST-MODIFIED:20190530T214821Z
UID:6675-1573369200-1573401600@disciplesforchristoutreach.org
SUMMARY:Woodman Unit Chapel Service
DESCRIPTION:Sister Carman and Sister Quilici will be bringing the word of God to the ladies at the Woodman unit.  For more information email office@disciplesforchristoutreach.org
URL:https://disciplesforchristoutreach.org/event/woodman-unit-chapel-service-3/
LOCATION:Woodman Unit\, 1210 Coryell City Rd\, Gatesville\, TX\, 76528\, United States
CATEGORIES:Chapel Service
ORGANIZER;CN="Carman Pupo":MAILTO:office@disciplesforchristoutreach.org
END:VEVENT
BEGIN:VEVENT
DTSTART;TZID=America/Chicago:20191102T070000
DTEND;TZID=America/Chicago:20191102T160000
DTSTAMP:20260423T120952
CREATED:20190530T214518Z
LAST-MODIFIED:20190530T214518Z
UID:6673-1572678000-1572710400@disciplesforchristoutreach.org
SUMMARY:Mt. View Workshop
DESCRIPTION:Disciples 4 Christ will host a Real Issues\, Real Jesus Workshop on the Mt. View unit.  For more information or to sign up for this event email office@disciplesforchristoutreach.org.  Please included the date of the event along with the unit in the subject line of your email. \n 
URL:https://disciplesforchristoutreach.org/event/mt-view-workshop/
LOCATION:Texas
CATEGORIES:Workshop
END:VEVENT
BEGIN:VEVENT
DTSTART;TZID=America/Chicago:20191020T070000
DTEND;TZID=America/Chicago:20191020T160000
DTSTAMP:20260423T120952
CREATED:20190530T213737Z
LAST-MODIFIED:20190530T214209Z
UID:6669-1571554800-1571587200@disciplesforchristoutreach.org
SUMMARY:Marlin Unit Chapel Service
DESCRIPTION:Pastor Richard Patrick and his wife Brandy will be bringing the word of God to the ladies of the Marlin Unit. For more information you can email our admin staff at office@disciplesforchristoutreach.org.
URL:https://disciplesforchristoutreach.org/event/marlin-unit-chapel-service-2/
LOCATION:Marlin Unit\, 2893 Texas 6\, Marlin\, TX\, 76661\, United States
CATEGORIES:Chapel Service
END:VEVENT
BEGIN:VEVENT
DTSTART;TZID=America/Chicago:20191013T070000
DTEND;TZID=America/Chicago:20191013T160000
DTSTAMP:20260423T120952
CREATED:20190530T213928Z
LAST-MODIFIED:20190904T100128Z
UID:6671-1570950000-1570982400@disciplesforchristoutreach.org
SUMMARY:Woodman Unit Chapel Service
DESCRIPTION:Sister Carman and Sister Quilici will be bringing the word of God to the ladies of the Woodman Unit. For more information you can email our admin staff at office@disciplesforchristoutreach.org.
URL:https://disciplesforchristoutreach.org/event/woodman-unit-chapel-service-2/
LOCATION:Woodman Unit\, 1210 Coryell City Rd\, Gatesville\, TX\, 76528\, United States
CATEGORIES:Chapel Service
ORGANIZER;CN="Carman Pupo":MAILTO:office@disciplesforchristoutreach.org
END:VEVENT
BEGIN:VEVENT
DTSTART;TZID=America/Chicago:20191012T070000
DTEND;TZID=America/Chicago:20191012T160000
DTSTAMP:20260423T120952
CREATED:20190530T213604Z
LAST-MODIFIED:20190530T214122Z
UID:6667-1570863600-1570896000@disciplesforchristoutreach.org
SUMMARY:Mt. View Moments with Mom
DESCRIPTION:Disciples 4 Christ will host a Moments with Mom event on the Mt. View unit.  Our Family fun day program are designed to bring the offender\, their children and caregivers together for day of mending hearts and strengthening relationships. For more information you can email our admin staff at office@disciplesforchristoutreach.org\, please include the date of the event and the unit in the subject line of your email.
URL:https://disciplesforchristoutreach.org/event/mt-view-moments-with-mom/
LOCATION:Texas
CATEGORIES:Family Fun Day
END:VEVENT
BEGIN:VEVENT
DTSTART;TZID=America/Chicago:20190922T070000
DTEND;TZID=America/Chicago:20190922T160000
DTSTAMP:20260423T120952
CREATED:20190530T211704Z
LAST-MODIFIED:20190530T214028Z
UID:6665-1569135600-1569168000@disciplesforchristoutreach.org
SUMMARY:Hilltop Chapel Service
DESCRIPTION:Pastor Richard Patrick and his wife Brandy will be bringing the word of God to the ladies of the Hilltop Unit. For more information you can email our admin staff at office@disciplesforchristoutreach.org.
URL:https://disciplesforchristoutreach.org/event/hilltop-chapel-service-2/
LOCATION:William Boyd Unit\, P. R. 940\, Teague\, TX\, 75860\, United States
CATEGORIES:Chapel Service
END:VEVENT
BEGIN:VEVENT
DTSTART;TZID=America/Chicago:20190922T070000
DTEND;TZID=America/Chicago:20190922T160000
DTSTAMP:20260423T120952
CREATED:20190530T211418Z
LAST-MODIFIED:20190530T213213Z
UID:6663-1569135600-1569168000@disciplesforchristoutreach.org
SUMMARY:Hughes Unit Chapel Service
DESCRIPTION:Disciples 4 Christ will be bringing the word of God to the men on the Hughes unit.  For more information you can email our admin staff at office@disciplesforchristoutreach.org.
URL:https://disciplesforchristoutreach.org/event/hughes-unit-chapel-service-2/
LOCATION:Hughes Unit\, 3201 FM 929\, Gatesville\, Texas\, 76528
CATEGORIES:Chapel Service
ORGANIZER;CN="Susan Neyra":MAILTO:susan@disciplesforchristoutreach.org
END:VEVENT
BEGIN:VEVENT
DTSTART;TZID=America/Chicago:20190921T070000
DTEND;TZID=America/Chicago:20190921T160000
DTSTAMP:20260423T120952
CREATED:20190530T211151Z
LAST-MODIFIED:20190530T213052Z
UID:6661-1569049200-1569081600@disciplesforchristoutreach.org
SUMMARY:Hughes unit Family Fun Day
DESCRIPTION:Disciples 4 Christ will be hosting a Day with Dad  on the Hughes unit.  Our family fun day programs are designed to bring the offender\, their children and the caregivers together where hearts can be mended and relationship strengthened.  For more information email our Admin staff at office@disciplesforchristoutreach.org please include the day of the event along with the unit in the subject line. \n 
URL:https://disciplesforchristoutreach.org/event/hughes-unit-family-fun-day/
LOCATION:Hughes Unit\, 3201 FM 929\, Gatesville\, Texas\, 76528
CATEGORIES:Family Fun Day
ORGANIZER;CN="Susan Neyra":MAILTO:susan@disciplesforchristoutreach.org
END:VEVENT
BEGIN:VEVENT
DTSTART;TZID=America/Chicago:20190811T070000
DTEND;TZID=America/Chicago:20190811T160000
DTSTAMP:20260423T120952
CREATED:20190530T210543Z
LAST-MODIFIED:20190530T220136Z
UID:6657-1565506800-1565539200@disciplesforchristoutreach.org
SUMMARY:Mt. View Unit Chapel Service
DESCRIPTION:Pastor Susan Neyra and her husband Bob along with their team will be bringing the word of God to the ladies of the Mt. View Unit. For more information you can email our admin staff at office@disciplesforchristoutreach.org.
URL:https://disciplesforchristoutreach.org/event/mt-view-unit-chapel-service/
LOCATION:Mt. View\, 2305 Ransom Rd\, Gatesville\, TX\, 76528\, United States
CATEGORIES:Chapel Service
ORGANIZER;CN="Susan Neyra":MAILTO:susan@disciplesforchristoutreach.org
END:VEVENT
BEGIN:VEVENT
DTSTART;TZID=America/Chicago:20190811T070000
DTEND;TZID=America/Chicago:20190811T160000
DTSTAMP:20260423T120952
CREATED:20190530T210032Z
LAST-MODIFIED:20190530T220043Z
UID:6651-1565506800-1565539200@disciplesforchristoutreach.org
SUMMARY:Woodman Unit Chapel Service
DESCRIPTION:Sister Carman and Sister Quilici  will be bringing the word of God to the ladies of the Woodman unit. For more information you can email our admin staff at office@disciplesforchristoutreach.org.
URL:https://disciplesforchristoutreach.org/event/woodman-unit-chapel-service/
LOCATION:Woodman Unit\, 1210 Coryell City Rd\, Gatesville\, TX\, 76528\, United States
CATEGORIES:Chapel Service
ORGANIZER;CN="Carman Pupo":MAILTO:office@disciplesforchristoutreach.org
END:VEVENT
BEGIN:VEVENT
DTSTART;TZID=America/Chicago:20190811T070000
DTEND;TZID=America/Chicago:20190811T160000
DTSTAMP:20260423T120952
CREATED:20190530T205620Z
LAST-MODIFIED:20190530T212639Z
UID:6649-1565506800-1565539200@disciplesforchristoutreach.org
SUMMARY:Marlin Chapel Service
DESCRIPTION:Pastor Richard Patrick and his wife Brandy will be bringing the word of God to the ladies of the Marlin Unit. For more information you can email our admin staff at office@disciplesforchristoutreach.org. Deadline to sign up for this event is April 28\, 2019
URL:https://disciplesforchristoutreach.org/event/marlin-chapel-service/
LOCATION:Marlin Unit\, 2893 Texas 6\, Marlin\, TX\, 76661\, United States
CATEGORIES:Chapel Service
END:VEVENT
BEGIN:VEVENT
DTSTART;TZID=America/Chicago:20190810T070000
DTEND;TZID=America/Chicago:20190810T160000
DTSTAMP:20260423T120952
CREATED:20190530T205448Z
LAST-MODIFIED:20190530T212528Z
UID:6645-1565420400-1565452800@disciplesforchristoutreach.org
SUMMARY:Marlin Day with Mom
DESCRIPTION:Pastor Richard Patrick and his wife Brandy along with their team will be hosting a Moments with Mom event on the Marlin Unit.  Our Moments with Mom programs are designed to bring the offender together with their children and the caregivers so hearts can be mended and relationships strengthened.   For more information you can email our admin staff at office@disciplesforchristoutreach.org\, please include the date of the event along with unit in the email subject line. \n 
URL:https://disciplesforchristoutreach.org/event/marlin-day-with-mom/
LOCATION:Marlin Unit\, 2893 Texas 6\, Marlin\, TX\, 76661\, United States
CATEGORIES:Family Fun Day
ORGANIZER;CN="Richard Patrick":MAILTO:office@disciplesforchristoutreach.org
END:VEVENT
BEGIN:VEVENT
DTSTART;TZID=America/Chicago:20190714T070000
DTEND;TZID=America/Chicago:20190714T160000
DTSTAMP:20260423T120952
CREATED:20190530T204138Z
LAST-MODIFIED:20190530T212323Z
UID:6640-1563087600-1563120000@disciplesforchristoutreach.org
SUMMARY:Marlin Unit Chapel Service
DESCRIPTION:Pastor Richard Patrick and his wife Brandy will be bringing the word of God to the ladies of the Marlin unit. For more information you can email our admin staff at office@disciplesforchristoutreach.org.
URL:https://disciplesforchristoutreach.org/event/marlin-unit-chapel-service/
LOCATION:Marlin Unit\, 2893 Texas 6\, Marlin\, TX\, 76661\, United States
CATEGORIES:Chapel Service
END:VEVENT
BEGIN:VEVENT
DTSTART;TZID=America/Chicago:20190622T070000
DTEND;TZID=America/Chicago:20190622T160000
DTSTAMP:20260423T120952
CREATED:20190530T203812Z
LAST-MODIFIED:20190530T212224Z
UID:6634-1561186800-1561219200@disciplesforchristoutreach.org
SUMMARY:Hughes Unit Career Day
DESCRIPTION:Shuwan Hughes along with her husband Ryan Hughes along with their team of volunteers will host a day long workshop centered around cell phone technology\, resume building and the do’s and don’ts of interviewing.   Our curriculum is biblically centered and designed to help the offender become productive members of society upon release.  For more office@disciplesforchristoutreach.org.
URL:https://disciplesforchristoutreach.org/event/hughes-unit-career-day/
LOCATION:Hughes Unit\, 3201 FM 929\, Gatesville\, Texas\, 76528
CATEGORIES:Workshop
ORGANIZER;CN="Shuwan Hughes":MAILTO:office@disciplesforchristoutreach.org
END:VEVENT
BEGIN:VEVENT
DTSTART;TZID=America/Chicago:20190602T070000
DTEND;TZID=America/Chicago:20190602T160000
DTSTAMP:20260423T120952
CREATED:20190530T203016Z
LAST-MODIFIED:20190530T212006Z
UID:6628-1559458800-1559491200@disciplesforchristoutreach.org
SUMMARY:Hughes Unit Chapel Service
DESCRIPTION:Pastor Robert Watson and his team will be bringing the word of God to the men on the Hughes Unit.  For more information you can email our admin staff at office@disciplesforchristoutreach.org. Deadline to sign up for this event is April 28\, 2019
URL:https://disciplesforchristoutreach.org/event/hughes-unit-chapel-service/
LOCATION:Hughes Unit\, 3201 FM 929\, Gatesville\, Texas\, 76528
CATEGORIES:Chapel Service
ORGANIZER;CN="Robert Watson":MAILTO:office@disciplesforchristoutreach.org
END:VEVENT
BEGIN:VEVENT
DTSTART;VALUE=DATE:20190601
DTEND;VALUE=DATE:20190603
DTSTAMP:20260423T120952
CREATED:20190530T202534Z
LAST-MODIFIED:20190530T211913Z
UID:6621-1559430000-1559516399@disciplesforchristoutreach.org
SUMMARY:Hilltop Chapel Service
DESCRIPTION:Pastor Richard Patrick and his wife Brandy will be bringing the word of God to the ladies of the Hilltop Unit.  For more information you can email our admin staff at  office@disciplesforchristoutreach.org.  Deadline to sign up for this event is April 28\, 2019
URL:https://disciplesforchristoutreach.org/event/hilltop-chapel-service/
LOCATION:Hilltop Unit\, 1500 State School Rd\, Gatesville\, Texas\, 76598
CATEGORIES:Chapel Service
ORGANIZER;CN="Richard Patrick":MAILTO:office@disciplesforchristoutreach.org
END:VEVENT
END:VCALENDAR