BEGIN:VCALENDAR
VERSION:2.0
PRODID:-//Disciples 4 Christ Outreach - ECPv6.15.20//NONSGML v1.0//EN
CALSCALE:GREGORIAN
METHOD:PUBLISH
X-WR-CALNAME:Disciples 4 Christ Outreach
X-ORIGINAL-URL:https://disciplesforchristoutreach.org
X-WR-CALDESC:Events for Disciples 4 Christ Outreach
REFRESH-INTERVAL;VALUE=DURATION:PT1H
X-Robots-Tag:noindex
X-PUBLISHED-TTL:PT1H
BEGIN:VTIMEZONE
TZID:America/Chicago
BEGIN:DAYLIGHT
TZOFFSETFROM:-0600
TZOFFSETTO:-0500
TZNAME:CDT
DTSTART:20190310T080000
END:DAYLIGHT
BEGIN:STANDARD
TZOFFSETFROM:-0500
TZOFFSETTO:-0600
TZNAME:CST
DTSTART:20191103T070000
END:STANDARD
BEGIN:DAYLIGHT
TZOFFSETFROM:-0600
TZOFFSETTO:-0500
TZNAME:CDT
DTSTART:20200308T080000
END:DAYLIGHT
BEGIN:STANDARD
TZOFFSETFROM:-0500
TZOFFSETTO:-0600
TZNAME:CST
DTSTART:20201101T070000
END:STANDARD
BEGIN:DAYLIGHT
TZOFFSETFROM:-0600
TZOFFSETTO:-0500
TZNAME:CDT
DTSTART:20210314T080000
END:DAYLIGHT
BEGIN:STANDARD
TZOFFSETFROM:-0500
TZOFFSETTO:-0600
TZNAME:CST
DTSTART:20211107T070000
END:STANDARD
BEGIN:DAYLIGHT
TZOFFSETFROM:-0600
TZOFFSETTO:-0500
TZNAME:CDT
DTSTART:20220313T080000
END:DAYLIGHT
BEGIN:STANDARD
TZOFFSETFROM:-0500
TZOFFSETTO:-0600
TZNAME:CST
DTSTART:20221106T070000
END:STANDARD
BEGIN:DAYLIGHT
TZOFFSETFROM:-0600
TZOFFSETTO:-0500
TZNAME:CDT
DTSTART:20230312T080000
END:DAYLIGHT
BEGIN:STANDARD
TZOFFSETFROM:-0500
TZOFFSETTO:-0600
TZNAME:CST
DTSTART:20231105T070000
END:STANDARD
END:VTIMEZONE
BEGIN:VEVENT
DTSTART;TZID=America/Chicago:20221202T080000
DTEND;TZID=America/Chicago:20221204T170000
DTSTAMP:20260423T101848
CREATED:20220711T175749Z
LAST-MODIFIED:20220711T175749Z
UID:14451-1669968000-1670173200@disciplesforchristoutreach.org
SUMMARY:14th Annual Blessing Bag Outreach
DESCRIPTION:Jesus is the reason for the season!  Disciples 4 Christ will be handing out Christmas Blessing Bags to over 6000 inmates and prison staff over 5 prisons during the month of December.  To learn how you can volunteer or donate to this outreach\, please contact Susan Neyra at susan@disciplesforchristoutreach.org
URL:https://disciplesforchristoutreach.org/event/14th-annual-blessing-bag-outreach/
LOCATION:Hughes Unit\, 3201 FM 929\, Gatesville\, Texas\, 76528
CATEGORIES:Hygiene Outreach,Outreach
ORGANIZER;CN="Susan Neyra":MAILTO:susan@disciplesforchristoutreach.org
END:VEVENT
BEGIN:VEVENT
DTSTART;TZID=America/Chicago:20221202T080000
DTEND;TZID=America/Chicago:20221202T170000
DTSTAMP:20260423T101848
CREATED:20230227T160304Z
LAST-MODIFIED:20230227T160304Z
UID:15391-1669968000-1670000400@disciplesforchristoutreach.org
SUMMARY:15th Annual Blessing Bag Outreach
DESCRIPTION:Jesus is the reason for the season!  Disciples 4 Christ will be handing out Christmas Blessing Bags to over 6000 inmates and prison staff over 5 prisons during the month of December.  To learn how you can volunteer or donate to this outreach\, please contact Susan Neyra at susan@disciplesforchristoutreach.org
URL:https://disciplesforchristoutreach.org/event/15th-annual-blessing-bag-outreach/
LOCATION:Hughes Unit\, 3201 FM 929\, Gatesville\, Texas\, 76528
CATEGORIES:Hygiene Outreach,Outreach
ORGANIZER;CN="Susan Neyra":MAILTO:susan@disciplesforchristoutreach.org
END:VEVENT
BEGIN:VEVENT
DTSTART;VALUE=DATE:20201204
DTEND;VALUE=DATE:20201206
DTSTAMP:20260423T101848
CREATED:20191229T003652Z
LAST-MODIFIED:20201010T224923Z
UID:7215-1607122800-1607209199@disciplesforchristoutreach.org
SUMMARY:Hughes Blessing Bag Outreach
DESCRIPTION:Disciples 4 Christ will be delivering 3000 hygiene bags to the men of the Hughes Unit.  To learn how you can donate towards this outreach\, or to learn how you can be a part of the event email office@disciplesforchristoutreach.org
URL:https://disciplesforchristoutreach.org/event/hughes-blessing-bag-outreach-2/
LOCATION:Hughes Unit\, 3201 FM 929\, Gatesville\, Texas\, 76528
CATEGORIES:Hygiene Outreach
ORGANIZER;CN="Susan Neyra":MAILTO:susan@disciplesforchristoutreach.org
END:VEVENT
END:VCALENDAR