BEGIN:VCALENDAR
VERSION:2.0
PRODID:-//Disciples 4 Christ Outreach - ECPv6.15.20//NONSGML v1.0//EN
CALSCALE:GREGORIAN
METHOD:PUBLISH
X-WR-CALNAME:Disciples 4 Christ Outreach
X-ORIGINAL-URL:https://disciplesforchristoutreach.org
X-WR-CALDESC:Events for Disciples 4 Christ Outreach
REFRESH-INTERVAL;VALUE=DURATION:PT1H
X-Robots-Tag:noindex
X-PUBLISHED-TTL:PT1H
BEGIN:VTIMEZONE
TZID:America/Chicago
BEGIN:DAYLIGHT
TZOFFSETFROM:-0600
TZOFFSETTO:-0500
TZNAME:CDT
DTSTART:20180311T080000
END:DAYLIGHT
BEGIN:STANDARD
TZOFFSETFROM:-0500
TZOFFSETTO:-0600
TZNAME:CST
DTSTART:20181104T070000
END:STANDARD
BEGIN:DAYLIGHT
TZOFFSETFROM:-0600
TZOFFSETTO:-0500
TZNAME:CDT
DTSTART:20190310T080000
END:DAYLIGHT
BEGIN:STANDARD
TZOFFSETFROM:-0500
TZOFFSETTO:-0600
TZNAME:CST
DTSTART:20191103T070000
END:STANDARD
BEGIN:DAYLIGHT
TZOFFSETFROM:-0600
TZOFFSETTO:-0500
TZNAME:CDT
DTSTART:20200308T080000
END:DAYLIGHT
BEGIN:STANDARD
TZOFFSETFROM:-0500
TZOFFSETTO:-0600
TZNAME:CST
DTSTART:20201101T070000
END:STANDARD
BEGIN:DAYLIGHT
TZOFFSETFROM:-0600
TZOFFSETTO:-0500
TZNAME:CDT
DTSTART:20210314T080000
END:DAYLIGHT
BEGIN:STANDARD
TZOFFSETFROM:-0500
TZOFFSETTO:-0600
TZNAME:CST
DTSTART:20211107T070000
END:STANDARD
BEGIN:DAYLIGHT
TZOFFSETFROM:-0600
TZOFFSETTO:-0500
TZNAME:CDT
DTSTART:20220313T080000
END:DAYLIGHT
BEGIN:STANDARD
TZOFFSETFROM:-0500
TZOFFSETTO:-0600
TZNAME:CST
DTSTART:20221106T070000
END:STANDARD
BEGIN:DAYLIGHT
TZOFFSETFROM:-0600
TZOFFSETTO:-0500
TZNAME:CDT
DTSTART:20230312T080000
END:DAYLIGHT
BEGIN:STANDARD
TZOFFSETFROM:-0500
TZOFFSETTO:-0600
TZNAME:CST
DTSTART:20231105T070000
END:STANDARD
BEGIN:DAYLIGHT
TZOFFSETFROM:-0600
TZOFFSETTO:-0500
TZNAME:CDT
DTSTART:20240310T080000
END:DAYLIGHT
BEGIN:STANDARD
TZOFFSETFROM:-0500
TZOFFSETTO:-0600
TZNAME:CST
DTSTART:20241103T070000
END:STANDARD
BEGIN:DAYLIGHT
TZOFFSETFROM:-0600
TZOFFSETTO:-0500
TZNAME:CDT
DTSTART:20250309T080000
END:DAYLIGHT
BEGIN:STANDARD
TZOFFSETFROM:-0500
TZOFFSETTO:-0600
TZNAME:CST
DTSTART:20251102T070000
END:STANDARD
END:VTIMEZONE
BEGIN:VEVENT
DTSTART;TZID=America/Chicago:20241012T080000
DTEND;TZID=America/Chicago:20241012T170000
DTSTAMP:20260423T085418
CREATED:20240131T181757Z
LAST-MODIFIED:20240131T195620Z
UID:16794-1728720000-1728752400@disciplesforchristoutreach.org
SUMMARY:O'Daniel Moments with Mom
DESCRIPTION:Disciples 4 Christ will host a Moments with Momd event on the O’Daniel unit.  These day-long events are designed to bring the offender\, their children\, and caregivers together for a day of mending hearts and strengthening relationships. To learn more about this event or how you can volunteer please contact our event coordinator\, please include the date of the event and the unit in the subject line of your email.
URL:https://disciplesforchristoutreach.org/event/odaniel-moments-with-mom/
LOCATION:Mt. View\, 2305 Ransom Rd\, Gatesville\, TX\, 76528\, United States
CATEGORIES:Family Fun Day
ORGANIZER;CN="Susan Neyra":MAILTO:susan@disciplesforchristoutreach.org
END:VEVENT
BEGIN:VEVENT
DTSTART;VALUE=DATE:20240921
DTEND;VALUE=DATE:20240922
DTSTAMP:20260423T085418
CREATED:20240131T181450Z
LAST-MODIFIED:20240131T181450Z
UID:16791-1726876800-1726963199@disciplesforchristoutreach.org
SUMMARY:Hughes Day with Dad
DESCRIPTION:Disciples 4 Christ will host a Day with Dad event on the Hughes  unit.  These day-long events are designed to bring the offender\, their children\, and caregivers together for a day of mending hearts and strengthening relationships. To learn more about this event or how you can volunteer please contact our event coordinator\, please include the date of the event and the unit in the subject line of your email.
URL:https://disciplesforchristoutreach.org/event/hughes-day-with-dad-4/
LOCATION:Hughes Unit\, 3201 FM 929\, Gatesville\, Texas\, 76528
CATEGORIES:Family Fun Day
ORGANIZER;CN="Susan Neyra":MAILTO:susan@disciplesforchristoutreach.org
END:VEVENT
BEGIN:VEVENT
DTSTART;VALUE=DATE:20240323
DTEND;VALUE=DATE:20240324
DTSTAMP:20260423T085418
CREATED:20240131T174235Z
LAST-MODIFIED:20240131T174324Z
UID:16776-1711152000-1711238399@disciplesforchristoutreach.org
SUMMARY:Hilltop Moment's with Mom
DESCRIPTION:Disciples 4 Christ will host a Day with Mom event on the Hilltop unit.  These day-long events are designed to bring the offender\, their children\, and caregivers together for a day of mending hearts and strengthening relationships. To learn more about this event or how you can volunteer please contact our event coordinator\, please include the date of the event and the unit in the subject line of your email.
URL:https://disciplesforchristoutreach.org/event/hilltop-moments-with-mom-2/
LOCATION:Hilltop Unit\, 1500 State School Rd\, Gatesville\, Texas\, 76598
CATEGORIES:Family Fun Day
ORGANIZER;CN="Susan Neyra":MAILTO:susan@disciplesforchristoutreach.org
END:VEVENT
BEGIN:VEVENT
DTSTART;VALUE=DATE:20231021
DTEND;VALUE=DATE:20231022
DTSTAMP:20260423T085418
CREATED:20230227T160047Z
LAST-MODIFIED:20230227T160104Z
UID:15389-1697846400-1697932799@disciplesforchristoutreach.org
SUMMARY:Mt. View Day with Mom
DESCRIPTION:Disciples 4 Christ will host a Day with Mom event on the Mt. View unit.  These day-long events are designed to bring the offender\, their children\, and caregivers together for a day of mending hearts and strengthening relationships. To learn more about this event or how you can volunteer please contact our event coordinator\, please include the date of the event and the unit in the subject line of your email.
URL:https://disciplesforchristoutreach.org/event/mt-view-day-with-mom-2023/
LOCATION:Mt. View\, 2305 Ransom Rd\, Gatesville\, TX\, 76528\, United States
CATEGORIES:Family Fun Day
ORGANIZER;CN="Susan Neyra":MAILTO:susan@disciplesforchristoutreach.org
END:VEVENT
BEGIN:VEVENT
DTSTART;VALUE=DATE:20230916
DTEND;VALUE=DATE:20230917
DTSTAMP:20260423T085418
CREATED:20230227T155930Z
LAST-MODIFIED:20230227T155930Z
UID:15385-1694822400-1694908799@disciplesforchristoutreach.org
SUMMARY:Hughes Day with Dad
DESCRIPTION:Disciples 4 Christ will host a Day with Dad event on the Hughes unit.  These day-long events are designed to bring the inmate\, their children\, and caregivers together for a day of mending hearts and strengthening relationships. To learn more about this event or how you can volunteer please email our event coordinator don’t forget to include the date of the event and the unit in the subject line of your email.
URL:https://disciplesforchristoutreach.org/event/hughes-day-with-dad-september-2023/
LOCATION:Hughes Unit\, 3201 FM 929\, Gatesville\, Texas\, 76528
CATEGORIES:Family Fun Day
ORGANIZER;CN="Susan Neyra":MAILTO:susan@disciplesforchristoutreach.org
END:VEVENT
BEGIN:VEVENT
DTSTART;VALUE=DATE:20230422
DTEND;VALUE=DATE:20230423
DTSTAMP:20260423T085418
CREATED:20230227T154929Z
LAST-MODIFIED:20230227T154929Z
UID:15365-1682121600-1682207999@disciplesforchristoutreach.org
SUMMARY:Hughes Day with Dad
DESCRIPTION:Disciples 4 Christ will host a Day with Dad event on the Hughes unit.  These day-long events are designed to bring the inmate\, their children\, and caregivers together for a day of mending hearts and strengthening relationships. To learn more about this event or how you can volunteer please email our event coordinator don’t forget to include the date of the event and the unit in the subject line of your email.
URL:https://disciplesforchristoutreach.org/event/hughes-day-with-dad-2023/
LOCATION:Hughes Unit\, 3201 FM 929\, Gatesville\, Texas\, 76528
CATEGORIES:Family Fun Day
ORGANIZER;CN="Susan Neyra":MAILTO:susan@disciplesforchristoutreach.org
END:VEVENT
BEGIN:VEVENT
DTSTART;VALUE=DATE:20230325
DTEND;VALUE=DATE:20230326
DTSTAMP:20260423T085418
CREATED:20221229T161657Z
LAST-MODIFIED:20221229T161657Z
UID:15148-1679702400-1679788799@disciplesforchristoutreach.org
SUMMARY:Hilltop Day with Mom
DESCRIPTION:Disciples 4 Christ will host a Day with Mom event on the Hilltop unit.  These day-long events are designed to bring the offender\, their children\, and caregivers together for a day of mending hearts and strengthening relationships. To learn more about this event or how you can volunteer please contact our event coordinator\, please include the date of the event and the unit in the subject line of your email.
URL:https://disciplesforchristoutreach.org/event/hilltop-day-with-mom-2/
LOCATION:Hilltop Unit\, 1500 State School Rd\, Gatesville\, Texas\, 76598
CATEGORIES:Family Fun Day
ORGANIZER;CN="Susan Neyra":MAILTO:susan@disciplesforchristoutreach.org
END:VEVENT
BEGIN:VEVENT
DTSTART;VALUE=DATE:20221008
DTEND;VALUE=DATE:20221009
DTSTAMP:20260423T085418
CREATED:20220224T224917Z
LAST-MODIFIED:20220224T225306Z
UID:13900-1665187200-1665273599@disciplesforchristoutreach.org
SUMMARY:Mt. View Day with Mom
DESCRIPTION:Disciples 4 Christ will host a Moments with Mom event on the Mt. View unit.  These day-long events are designed to bring the inmate\, their children\, and caregivers together for a day of mending hearts and strengthening relationships. To learn more about this event or how you can volunteer please contact our event coordinator\, and please include the date of the event and the unit in the subject line of your email
URL:https://disciplesforchristoutreach.org/event/mt-view-day-with-mom/
LOCATION:Mt. View\, 2305 Ransom Rd\, Gatesville\, TX\, 76528\, United States
CATEGORIES:Family Fun Day
ORGANIZER;CN="Susan Neyra":MAILTO:susan@disciplesforchristoutreach.org
END:VEVENT
BEGIN:VEVENT
DTSTART;VALUE=DATE:20220917
DTEND;VALUE=DATE:20220918
DTSTAMP:20260423T085418
CREATED:20220224T224607Z
LAST-MODIFIED:20220224T225441Z
UID:13898-1663372800-1663459199@disciplesforchristoutreach.org
SUMMARY:Hughes Day with Dad
DESCRIPTION:Disciples 4 Christ will host a Day with Dad event on the Hughes unit.  These day-long events are designed to bring the inmate\, their children\, and caregivers together for a day of mending hearts and strengthening relationships. To learn more about this event or how you can volunteer please email our event coordinator don’t forget to include the date of the event and the unit in the subject line of your email.
URL:https://disciplesforchristoutreach.org/event/hughes-day-with-dad-3/
LOCATION:Hughes Unit\, 3201 FM 929\, Gatesville\, Texas\, 76528
CATEGORIES:Family Fun Day
ORGANIZER;CN="Susan Neyra":MAILTO:susan@disciplesforchristoutreach.org
END:VEVENT
BEGIN:VEVENT
DTSTART;VALUE=DATE:20220319
DTEND;VALUE=DATE:20220320
DTSTAMP:20260423T085418
CREATED:20220110T161307Z
LAST-MODIFIED:20220224T210017Z
UID:13439-1647648000-1647734399@disciplesforchristoutreach.org
SUMMARY:Hilltop Day with Mom
DESCRIPTION:Disciples 4 Christ will host a Day with Mom event on the Hilltop unit.  These day-long events are designed to bring the offender\, their children\, and caregivers together for a day of mending hearts and strengthening relationships. To learn more about this event or how you can volunteer please contact our event coordinator\, please include the date of the event and the unit in the subject line of your email.
URL:https://disciplesforchristoutreach.org/event/hilltop-day-with-mom/
LOCATION:William Boyd Unit\, P. R. 940\, Teague\, TX\, 75860\, United States
CATEGORIES:Family Fun Day
ORGANIZER;CN="Susan Neyra":MAILTO:susan@disciplesforchristoutreach.org
END:VEVENT
BEGIN:VEVENT
DTSTART;VALUE=DATE:20200918
DTEND;VALUE=DATE:20200920
DTSTAMP:20260423T085418
CREATED:20191229T001644Z
LAST-MODIFIED:20200218T023134Z
UID:7202-1600470000-1600556399@disciplesforchristoutreach.org
SUMMARY:Hughes Day with Dad
DESCRIPTION:Disciples 4 Christ will host a Day with Dad on the Hughes Unit.  These day-long events are designed to bring the offender\, their children\, and caregivers together for a day of mending hearts and strengthening relationships. To learn more about this event or how you can volunteer please email our admin staff at office@disciplesforchristoutreach.org\, please include the date of the event and the unit in the subject line of your email.
URL:https://disciplesforchristoutreach.org/event/hughes-day-with-dad-2/
LOCATION:Hughes Unit\, 3201 FM 929\, Gatesville\, Texas\, 76528
CATEGORIES:Family Fun Day
ORGANIZER;CN="Susan Neyra":MAILTO:susan@disciplesforchristoutreach.org
END:VEVENT
BEGIN:VEVENT
DTSTART;VALUE=DATE:20200502
DTEND;VALUE=DATE:20200503
DTSTAMP:20260423T085418
CREATED:20200218T025929Z
LAST-MODIFIED:20200218T025929Z
UID:7817-1588377600-1588463999@disciplesforchristoutreach.org
SUMMARY:Marlin - Moments With Mom
DESCRIPTION:Disciples 4 Christ will host a Moments with Mom event on the Marlin unit. These day-long events are designed to bring the offender\, their children\, and caregivers together for a day of mending hearts and strengthening relationships. To learn more about these events or how you can volunteer\, please email our admin. staff at office@disciplesforchristoutreach.org. Please include the date and Unit Name in the subject line of your email.
URL:https://disciplesforchristoutreach.org/event/marlin-moments-with-mom/
LOCATION:Marlin Unit\, 2893 Texas 6\, Marlin\, TX\, 76661\, United States
CATEGORIES:Family Fun Day
END:VEVENT
BEGIN:VEVENT
DTSTART;VALUE=DATE:20200417
DTEND;VALUE=DATE:20200419
DTSTAMP:20260423T085418
CREATED:20191228T235237Z
LAST-MODIFIED:20191228T235237Z
UID:7188-1587164400-1587250799@disciplesforchristoutreach.org
SUMMARY:Hughes - Day with Dad
DESCRIPTION:Disciples 4 Christ will host a Day with Dad on the Hughes unit.  These day-long events are designed to bring the offender\, their children\, and caregivers together for a day of mending hearts and strengthening relationships. To learn more about this event or how you can volunteer please email our admin staff at office@disciplesforchristoutreach.org\, please include the date of the event and the unit in the subject line of your email.
URL:https://disciplesforchristoutreach.org/event/hughes-day-with-dad/
LOCATION:Hughes Unit\, 3201 FM 929\, Gatesville\, Texas\, 76528
CATEGORIES:Family Fun Day
ORGANIZER;CN="Susan Neyra":MAILTO:susan@disciplesforchristoutreach.org
END:VEVENT
BEGIN:VEVENT
DTSTART;TZID=America/Chicago:20200314T070000
DTEND;TZID=America/Chicago:20200314T160000
DTSTAMP:20260423T085418
CREATED:20191228T233659Z
LAST-MODIFIED:20191228T233659Z
UID:7181-1584169200-1584201600@disciplesforchristoutreach.org
SUMMARY:Hilltop - Moments with Mom
DESCRIPTION:Disciples 4 Christ will host a Moments with Mom event on the Hilltop unit.  These day-long events are designed to bring the offender\, their children\, and caregivers together for a day of mending hearts and strengthening relationships. To learn more about these event or how you can volunteer please email our admin staff at office@disciplesforchristoutreach.org\, please include the date of the event and the unit in the subject line of your email.
URL:https://disciplesforchristoutreach.org/event/hilltop-moments-with-mom/
LOCATION:Hilltop Unit\, 1500 State School Rd\, Gatesville\, Texas\, 76598
CATEGORIES:Family Fun Day
ORGANIZER;CN="Susan Neyra":MAILTO:susan@disciplesforchristoutreach.org
END:VEVENT
BEGIN:VEVENT
DTSTART;TZID=America/Chicago:20191012T070000
DTEND;TZID=America/Chicago:20191012T160000
DTSTAMP:20260423T085418
CREATED:20190530T213604Z
LAST-MODIFIED:20190530T214122Z
UID:6667-1570863600-1570896000@disciplesforchristoutreach.org
SUMMARY:Mt. View Moments with Mom
DESCRIPTION:Disciples 4 Christ will host a Moments with Mom event on the Mt. View unit.  Our Family fun day program are designed to bring the offender\, their children and caregivers together for day of mending hearts and strengthening relationships. For more information you can email our admin staff at office@disciplesforchristoutreach.org\, please include the date of the event and the unit in the subject line of your email.
URL:https://disciplesforchristoutreach.org/event/mt-view-moments-with-mom/
LOCATION:TX
CATEGORIES:Family Fun Day
END:VEVENT
BEGIN:VEVENT
DTSTART;TZID=America/Chicago:20190921T070000
DTEND;TZID=America/Chicago:20190921T160000
DTSTAMP:20260423T085418
CREATED:20190530T211151Z
LAST-MODIFIED:20190530T213052Z
UID:6661-1569049200-1569081600@disciplesforchristoutreach.org
SUMMARY:Hughes unit Family Fun Day
DESCRIPTION:Disciples 4 Christ will be hosting a Day with Dad  on the Hughes unit.  Our family fun day programs are designed to bring the offender\, their children and the caregivers together where hearts can be mended and relationship strengthened.  For more information email our Admin staff at office@disciplesforchristoutreach.org please include the day of the event along with the unit in the subject line. \n 
URL:https://disciplesforchristoutreach.org/event/hughes-unit-family-fun-day/
LOCATION:Hughes Unit\, 3201 FM 929\, Gatesville\, Texas\, 76528
CATEGORIES:Family Fun Day
ORGANIZER;CN="Susan Neyra":MAILTO:susan@disciplesforchristoutreach.org
END:VEVENT
BEGIN:VEVENT
DTSTART;TZID=America/Chicago:20190810T070000
DTEND;TZID=America/Chicago:20190810T160000
DTSTAMP:20260423T085418
CREATED:20190530T205448Z
LAST-MODIFIED:20190530T212528Z
UID:6645-1565420400-1565452800@disciplesforchristoutreach.org
SUMMARY:Marlin Day with Mom
DESCRIPTION:Pastor Richard Patrick and his wife Brandy along with their team will be hosting a Moments with Mom event on the Marlin Unit.  Our Moments with Mom programs are designed to bring the offender together with their children and the caregivers so hearts can be mended and relationships strengthened.   For more information you can email our admin staff at office@disciplesforchristoutreach.org\, please include the date of the event along with unit in the email subject line. \n 
URL:https://disciplesforchristoutreach.org/event/marlin-day-with-mom/
LOCATION:Marlin Unit\, 2893 Texas 6\, Marlin\, TX\, 76661\, United States
CATEGORIES:Family Fun Day
ORGANIZER;CN="Richard Patrick":MAILTO:office@disciplesforchristoutreach.org
END:VEVENT
END:VCALENDAR