BEGIN:VCALENDAR
VERSION:2.0
PRODID:-//Disciples 4 Christ Outreach - ECPv6.15.20//NONSGML v1.0//EN
CALSCALE:GREGORIAN
METHOD:PUBLISH
X-WR-CALNAME:Disciples 4 Christ Outreach
X-ORIGINAL-URL:https://disciplesforchristoutreach.org
X-WR-CALDESC:Events for Disciples 4 Christ Outreach
REFRESH-INTERVAL;VALUE=DURATION:PT1H
X-Robots-Tag:noindex
X-PUBLISHED-TTL:PT1H
BEGIN:VTIMEZONE
TZID:America/Chicago
BEGIN:DAYLIGHT
TZOFFSETFROM:-0600
TZOFFSETTO:-0500
TZNAME:CDT
DTSTART:20230312T080000
END:DAYLIGHT
BEGIN:STANDARD
TZOFFSETFROM:-0500
TZOFFSETTO:-0600
TZNAME:CST
DTSTART:20231105T070000
END:STANDARD
BEGIN:DAYLIGHT
TZOFFSETFROM:-0600
TZOFFSETTO:-0500
TZNAME:CDT
DTSTART:20240310T080000
END:DAYLIGHT
BEGIN:STANDARD
TZOFFSETFROM:-0500
TZOFFSETTO:-0600
TZNAME:CST
DTSTART:20241103T070000
END:STANDARD
BEGIN:DAYLIGHT
TZOFFSETFROM:-0600
TZOFFSETTO:-0500
TZNAME:CDT
DTSTART:20250309T080000
END:DAYLIGHT
BEGIN:STANDARD
TZOFFSETFROM:-0500
TZOFFSETTO:-0600
TZNAME:CST
DTSTART:20251102T070000
END:STANDARD
END:VTIMEZONE
BEGIN:VEVENT
DTSTART;TZID=America/Chicago:20240721T080000
DTEND;TZID=America/Chicago:20240721T150000
DTSTAMP:20260423T071805
CREATED:20240131T181027Z
LAST-MODIFIED:20240131T195356Z
UID:16789-1721548800-1721574000@disciplesforchristoutreach.org
SUMMARY:Woodman Chapel Service
DESCRIPTION:Disciples 4 Christ’s mission is to show the love of Christ to those within the TDCJ fences.  One way we do this is through church chapel services.   Our services are structured similarly to services in the free world.  They begin with Praise and Worship\, perhaps a testimony of God’s goodness\, followed by a message centered around God’s word and ending with prayer.   Please be in prayer for our team as well as the ladies on the unit\,  that their hearts and minds would be open to what God has for them.
URL:https://disciplesforchristoutreach.org/event/woodman-chapel-service-9/
LOCATION:Woodman Unit\, 1210 Coryell City Rd\, Gatesville\, TX\, 76528\, United States
CATEGORIES:Crossfit
END:VEVENT
BEGIN:VEVENT
DTSTART;VALUE=DATE:20240413
DTEND;VALUE=DATE:20240414
DTSTAMP:20260423T071805
CREATED:20240131T180355Z
LAST-MODIFIED:20240131T180355Z
UID:16779-1712966400-1713052799@disciplesforchristoutreach.org
SUMMARY:Hughes Kingdom Impact Crossfit Competition
DESCRIPTION:Disciples 4 Christ Crossfit a promotes health\, well-being\, healthy competition\, and goal- oriented training to the inmates allowed to participate.  This type of training also allows for a valuable skill set for employment upon release from incarceration. These programs have been successfully executed in several prisons\, all with positive results.  \nMission Statement\nUsing mind\, body and spirit\, we are committed to creating a positive culture change within the prison community that challenges inmates physically and mentally. One that will boost morale\, strengthen hearts and build faith.\nKingdom Crossfit Training Program\nVolunteers and Coaches will come into the unit leading up to the big event (On Saturday 2x a month) to disciple and train the inmates for competition.  \nTraining/Classes would include:\n•	Nutrition/ Importance of Hydration\n•	Leadership  (based on the Lead Today book by John Maxwell)\n•	Strength Building  \nThe day of the events volunteers will help oversee the different competition stations.
URL:https://disciplesforchristoutreach.org/event/hughes-kingdom-impact-crossfit-competition/
LOCATION:Hughes Unit\, 3201 FM 929\, Gatesville\, Texas\, 76528
CATEGORIES:Crossfit,Outreach
END:VEVENT
END:VCALENDAR