BEGIN:VCALENDAR
VERSION:2.0
PRODID:-//Disciples 4 Christ Outreach - ECPv6.15.20//NONSGML v1.0//EN
CALSCALE:GREGORIAN
METHOD:PUBLISH
X-WR-CALNAME:Disciples 4 Christ Outreach
X-ORIGINAL-URL:https://disciplesforchristoutreach.org
X-WR-CALDESC:Events for Disciples 4 Christ Outreach
REFRESH-INTERVAL;VALUE=DURATION:PT1H
X-Robots-Tag:noindex
X-PUBLISHED-TTL:PT1H
BEGIN:VTIMEZONE
TZID:America/Chicago
BEGIN:DAYLIGHT
TZOFFSETFROM:-0600
TZOFFSETTO:-0500
TZNAME:CDT
DTSTART:20230312T080000
END:DAYLIGHT
BEGIN:STANDARD
TZOFFSETFROM:-0500
TZOFFSETTO:-0600
TZNAME:CST
DTSTART:20231105T070000
END:STANDARD
BEGIN:DAYLIGHT
TZOFFSETFROM:-0600
TZOFFSETTO:-0500
TZNAME:CDT
DTSTART:20240310T080000
END:DAYLIGHT
BEGIN:STANDARD
TZOFFSETFROM:-0500
TZOFFSETTO:-0600
TZNAME:CST
DTSTART:20241103T070000
END:STANDARD
BEGIN:DAYLIGHT
TZOFFSETFROM:-0600
TZOFFSETTO:-0500
TZNAME:CDT
DTSTART:20250309T080000
END:DAYLIGHT
BEGIN:STANDARD
TZOFFSETFROM:-0500
TZOFFSETTO:-0600
TZNAME:CST
DTSTART:20251102T070000
END:STANDARD
END:VTIMEZONE
BEGIN:VEVENT
DTSTART;TZID=America/Chicago:20241207T080000
DTEND;TZID=America/Chicago:20241208T170000
DTSTAMP:20260423T054537
CREATED:20240131T183206Z
LAST-MODIFIED:20240131T195647Z
UID:16803-1733558400-1733677200@disciplesforchristoutreach.org
SUMMARY:Hughes Blessing Bags
DESCRIPTION:Jesus is the reason for the season!  Disciples 4 Christ will be handing out Christmas Blessing Bags to over 6000 inmates and prison staff over 5 prisons during the month of December.  To learn how you can volunteer or donate to this outreach\, please contact Susan Neyra at susan@disciplesforchristoutreach.org
URL:https://disciplesforchristoutreach.org/event/hughes-blessing-bags/
LOCATION:Hughes Unit\, 3201 FM 929\, Gatesville\, Texas\, 76528
CATEGORIES:Blessing Bags
ORGANIZER;CN="Susan Neyra":MAILTO:susan@disciplesforchristoutreach.org
END:VEVENT
END:VCALENDAR